BEGIN:VCALENDAR
PRODID:-//eluceo/ical//2.0/EN
VERSION:2.0
CALSCALE:GREGORIAN
METHOD:PUBLISH
PRODID:-//Microsoft Corporation//Outlook 16.0 MIMEDIR//EN
X-WR-TIMEZONE:W. Europe Standard Time
BEGIN:VEVENT
UID:d63c5e570a38e197f08fc97302221aeb
DTSTAMP:20260422T103948Z
SUMMARY:Wohnzimmerkonzert
DESCRIPTION:Wohnzimmerkonzert\nhttps://www.kaempfelbach.de/termin/wohnzimme
 rkonzert/\nVeranstalter: G´sangverein Ersingen e.V.\nDatum: Samstag\, 09.
 05.2026\nOrt: Bernhardusheim Ersingen\, Bahnhofstraße 9\, 75236 Kämpfelb
 ach\n
DTSTART;VALUE=DATE:20260509
DTEND;VALUE=DATE:20260510
LOCATION:Bernhardusheim Ersingen\, Bahnhofstraße 9\, 75236 Kämpfelbach
X-ALT-DESC;FMTTYPE=TEXT/HTML:<html><body style="font-family: Arial\, sans-s
 erif\; line-height: 1.6\; color: #333\;"><h2 style="color: #333\; margin-b
 ottom: 20px\;">Wohnzimmerkonzert</h2><br /><p style="margin-bottom: 15px\;
 "><a href="https://www.kaempfelbach.de/termin/wohnzimmerkonzert/" target="
 _blank" style="color: #0066cc\;">https://www.kaempfelbach.de/termin/wohnzi
 mmerkonzert/</a></p><p style="margin-bottom: 10px\;"><strong>Veranstalter:
 </strong> G´sangverein Ersingen e.V.</p><p style="margin-bottom: 10px\;">
 <strong>Datum:</strong> Samstag\, 09.05.2026</p><p style="margin-bottom: 1
 0px\;"><strong>Ort:</strong> Bernhardusheim Ersingen\, Bahnhofstraße 9\, 
 75236 Kämpfelbach</p></body></html>
CLASS:PUBLIC
PRIORITY:5
SEQUENCE:0
TRANSP:OPAQUE
X-MICROSOFT-CDO-BUSYSTATUS:BUSY
X-MICROSOFT-CDO-IMPORTANCE:1
X-MICROSOFT-DISALLOW-COUNTER:FALSE
X-MS-OLK-AUTOFILLLOCATION:FALSE
X-MS-OLK-CONFTYPE:0
BEGIN:VALARM
TRIGGER:-PT15M
ACTION:DISPLAY
DESCRIPTION:Reminder
END:VALARM
END:VEVENT
X-MS-OLK-FORCEINSPECTOROPEN:TRUE
X-MICROSOFT-CDO-BUSYSTATUS:BUSY
X-MICROSOFT-CDO-IMPORTANCE:1
X-MICROSOFT-DISALLOW-COUNTER:FALSE
X-MS-OLK-AUTOFILLLOCATION:FALSE
X-MS-OLK-CONFTYPE:0
END:VCALENDAR
